BEGIN:VCALENDAR
VERSION:2.0
PRODID:-//Community Sailing School - ECPv6.15.17//NONSGML v1.0//EN
CALSCALE:GREGORIAN
METHOD:PUBLISH
X-ORIGINAL-URL:https://communitysailingschool.org
X-WR-CALDESC:Events for Community Sailing School
REFRESH-INTERVAL;VALUE=DURATION:PT1H
X-Robots-Tag:noindex
X-PUBLISHED-TTL:PT1H
BEGIN:VTIMEZONE
TZID:America/Detroit
BEGIN:DAYLIGHT
TZOFFSETFROM:-0500
TZOFFSETTO:-0400
TZNAME:EDT
DTSTART:20250309T070000
END:DAYLIGHT
BEGIN:STANDARD
TZOFFSETFROM:-0400
TZOFFSETTO:-0500
TZNAME:EST
DTSTART:20251102T060000
END:STANDARD
BEGIN:DAYLIGHT
TZOFFSETFROM:-0500
TZOFFSETTO:-0400
TZNAME:EDT
DTSTART:20260308T070000
END:DAYLIGHT
BEGIN:STANDARD
TZOFFSETFROM:-0400
TZOFFSETTO:-0500
TZNAME:EST
DTSTART:20261101T060000
END:STANDARD
BEGIN:DAYLIGHT
TZOFFSETFROM:-0500
TZOFFSETTO:-0400
TZNAME:EDT
DTSTART:20270314T070000
END:DAYLIGHT
BEGIN:STANDARD
TZOFFSETFROM:-0400
TZOFFSETTO:-0500
TZNAME:EST
DTSTART:20271107T060000
END:STANDARD
END:VTIMEZONE
BEGIN:VEVENT
DTSTART;TZID=America/Detroit:20260309T183000
DTEND;TZID=America/Detroit:20260309T203000
DTSTAMP:20260417T152756
CREATED:20260109T171537Z
LAST-MODIFIED:20260224T120946Z
UID:10000904-1773081000-1773088200@communitysailingschool.org
SUMMARY:Mandatory Parent Meeting for Spring Sailing
DESCRIPTION:At least one parent or guardian must attend prior to the spring sailing season
URL:https://communitysailingschool.org/event/mandatory-parent-meeting-for-spring-sailing/
LOCATION:CSS Center\, 3206 Orchard Lake Road\, Orchard Lake\, MI\, 48324\, United States
CATEGORIES:Information Session
ATTACH;FMTTYPE=image/jpeg:https://communitysailingschool.org/wp-content/uploads/2025/11/IMG_6492-scaled.jpg
END:VEVENT
BEGIN:VEVENT
DTSTART;TZID=America/Detroit:20260321T080000
DTEND;TZID=America/Detroit:20260321T170000
DTSTAMP:20260417T152756
CREATED:20260204T190008Z
LAST-MODIFIED:20260307T134258Z
UID:10000915-1774080000-1774112400@communitysailingschool.org
SUMMARY:GPYC Ice Breaker
DESCRIPTION:Dust off the snow and break some ice at this one day regatta at Grosse Pointe Yacht Club. \nDress warm and bring lots of extra dry clothes.  Make sure you have snacks\, water bottle\, and Pinnie. \nDrivers beware!  Do not drive over the posted speed limit as. you approach Jefferson Drive or when entering the Yacht Club. \nMany have been ticketed in the past!
URL:https://communitysailingschool.org/event/gpyc-ice-breaker/
LOCATION:Grosse Pointe Yacht Club\, 788 Lake Shore Rd\, Grosse Pointe Shores\, 48236\, United States
CATEGORIES:Tier 3 Regatta,Volunteers Needed
ATTACH;FMTTYPE=image/jpeg:https://communitysailingschool.org/wp-content/uploads/2025/03/Image.jpeg
END:VEVENT
END:VCALENDAR